BEGIN:VCALENDAR
VERSION:2.0
PRODID:-//Queen&#039;s Policy Engagement - ECPv4.7.0.1//NONSGML v1.0//EN
CALSCALE:GREGORIAN
METHOD:PUBLISH
X-WR-CALNAME:Queen&#039;s Policy Engagement
X-ORIGINAL-URL:https://qpol.dev.palebluedot.tv
X-WR-CALDESC:Events for Queen&#039;s Policy Engagement
BEGIN:VEVENT
DTSTART;TZID=Europe/London:20160509T173000
DTEND;TZID=Europe/London:20160509T193000
DTSTAMP:20260421T143705
CREATED:20160504T151925Z
LAST-MODIFIED:20160505T154528Z
UID:1281-1462815000-1462822200@qpol.dev.palebluedot.tv
SUMMARY:2016 Annual Gibson Lecture at the Gibson Institute
DESCRIPTION:The 2016 Annual Gibson Lecture at the Gibson Institute\, Queen’s University\, will be delivered by the European Commissioner for Agriculture and Rural Development\, Mr Phil Hogan. \nThe lecture\, entitled ‘Effect of Brexit on Irish Agriculture: North and South’ takes place on Europe Day itself\, Monday 9 May 2016 at 6pm at Lecture Theatre 1\, Medical Biology Centre\, 97 Lisburn Road\, Belfast. \nReception is from 5.30pm with everyone welcome to attend this public lecture.  \nThe greatest issue facing the agriculture and food sectors in a generation will be publically discussed by Europe’s leading agricultural policymaker. This is your opportunity to hear directly the opinion of those in charge of the Common Agricultural Policy and to take part in an open question and answer session directly after Commissioner Hogan’s presentation. \n  \nThe featured image in this article has been used thanks to a Creative Commons licence. \n
URL:https://qpol.dev.palebluedot.tv/event/2016-annual-gibson-lecture/
LOCATION:Lecture Theatre 1\, Medical Biology Centre\, 97 Lisburn Road \, Belfast\, Antrim \, BT9 7AE\, United Kingdom
CATEGORIES:Event
ATTACH;FMTTYPE=image/jpeg:https://qpol.dev.palebluedot.tv/wp-content/uploads/2016/05/Phil-Hogan-2.jpg
END:VEVENT
END:VCALENDAR