BEGIN:VCALENDAR
VERSION:2.0
PRODID:-//Queen&#039;s Policy Engagement - ECPv4.7.0.1//NONSGML v1.0//EN
CALSCALE:GREGORIAN
METHOD:PUBLISH
X-WR-CALNAME:Queen&#039;s Policy Engagement
X-ORIGINAL-URL:https://qpol.dev.palebluedot.tv
X-WR-CALDESC:Events for Queen&#039;s Policy Engagement
BEGIN:VEVENT
DTSTART;TZID=Europe/London:20180316T150000
DTEND;TZID=Europe/London:20180316T160000
DTSTAMP:20260422T001928
CREATED:20180302T105031Z
LAST-MODIFIED:20180302T105031Z
UID:4132-1521212400-1521216000@qpol.dev.palebluedot.tv
SUMMARY:A Duty to be Beautiful
DESCRIPTION:With Heather Widdows\, John Ferguson Professor of Global Ethics\, University of Birmingham. \nThe beauty ideal is changing\, it is becoming more important and\, in so doing\, it is being transforming into an ethical ideal. Yet the extent to which beauty defines our identities\, constructs the self\, structures daily practices\, creates meaning and against which individuals are valued (or not) is not well recognised. \nThis talk will explore beauty as an ethical ideal\, a shared value framework against which individuals judge themselves and others. This framework sets aspirational standards that we are required to work towards. Meeting\, or striving to meet\, such standards has the character of a (moral) duty\, where failure to confirm is a moral vice\, engendering shame and disgust\, whilst being beautiful is seen as a sign of virtue. Praise\, blame and reward are apportioned in accordance with the norms of beauty. Understanding the ethical nature of the ideal changes the power of what it means when we say “I let myself go!” or “I’ve been good and stuck to my diet”. It also makes sense of other features of beauty\, such as why we ‘choose’ to engage in painful or harmful practices\, like waxing and cosmetic surgery\, and why criticisms about appearance can be so damaging. \n
URL:https://qpol.dev.palebluedot.tv/event/a-duty-to-be-beautiful/
LOCATION:Old Staff Common Room\, Queen's University Belfast\, University Road\, Belfast\, BT7 1NN\, United Kingdom
CATEGORIES:Event
ATTACH;FMTTYPE=image/jpeg:https://qpol.dev.palebluedot.tv/wp-content/uploads/2018/03/Duty-to-be-beautiful.jpg
END:VEVENT
END:VCALENDAR