BEGIN:VCALENDAR
VERSION:2.0
PRODID:-//Queen&#039;s Policy Engagement - ECPv4.7.0.1//NONSGML v1.0//EN
CALSCALE:GREGORIAN
METHOD:PUBLISH
X-WR-CALNAME:Queen&#039;s Policy Engagement
X-ORIGINAL-URL:https://qpol.dev.palebluedot.tv
X-WR-CALDESC:Events for Queen&#039;s Policy Engagement
BEGIN:VEVENT
DTSTART;TZID=Europe/London:20211118T190000
DTEND;TZID=Europe/London:20211118T200000
DTSTAMP:20260421T062550
CREATED:20211101T185806Z
LAST-MODIFIED:20211101T185806Z
UID:8113-1637262000-1637265600@qpol.dev.palebluedot.tv
SUMMARY:A New Ireland: The State of the Constitutional Conversation
DESCRIPTION:\n\n\nProfessor Harvey\, School of Law\, Queen’s University Belfast\, will provide an assessment of the current state of the constitutional conversation on the island of Ireland\, followed by questions and comments from the audience.\n\n\n\n\n\n\n\nThe event will be of interest to anyone thinking critically about post-Brexit constitutional futures across these islands. Participants will\, in particular\, be provided with an update and reflections on the debate about constitutional change on the island of Ireland. \n\n\n\n\n
URL:https://qpol.dev.palebluedot.tv/event/a-new-ireland-the-state-of-the-constitutional-conversation/
LOCATION:Online
CATEGORIES:Event
ATTACH;FMTTYPE=image/jpeg:https://qpol.dev.palebluedot.tv/wp-content/uploads/2021/11/ESCR-Festival-NI.jpg
END:VEVENT
END:VCALENDAR