BEGIN:VCALENDAR
VERSION:2.0
PRODID:-//Queen&#039;s Policy Engagement - ECPv4.7.0.1//NONSGML v1.0//EN
CALSCALE:GREGORIAN
METHOD:PUBLISH
X-WR-CALNAME:Queen&#039;s Policy Engagement
X-ORIGINAL-URL:https://qpol.dev.palebluedot.tv
X-WR-CALDESC:Events for Queen&#039;s Policy Engagement
BEGIN:VEVENT
DTSTART;TZID=Europe/London:20171104T090000
DTEND;TZID=Europe/London:20171111T170000
DTSTAMP:20260422T011233
CREATED:20171101T104333Z
LAST-MODIFIED:20171101T104333Z
UID:3600-1509786000-1510419600@qpol.dev.palebluedot.tv
SUMMARY:The aftermath of migration on Kos
DESCRIPTION:In the summer of 2015 the migration crisis hit the shores of the Greek island of Kos\, with thousands of refugees given temporary accommodation in an abandoned hotel. \nThis powerful photographic exhibition shows images of the hotel and the many and various objects left behind\, and gives us a snapshot of life as a refugee\, as well as the aftermath of the migration crisis. \nThe exhibition will run throughout the Festival week. No registration required. Please just drop in! \n
URL:https://qpol.dev.palebluedot.tv/event/aftermath-migration-kos/
ATTACH;FMTTYPE=image/jpeg:https://qpol.dev.palebluedot.tv/wp-content/uploads/2017/11/esrc.jpg
END:VEVENT
END:VCALENDAR