BEGIN:VCALENDAR
VERSION:2.0
PRODID:-//Queen&#039;s Policy Engagement - ECPv4.7.0.1//NONSGML v1.0//EN
CALSCALE:GREGORIAN
METHOD:PUBLISH
X-WR-CALNAME:Queen&#039;s Policy Engagement
X-ORIGINAL-URL:https://qpol.dev.palebluedot.tv
X-WR-CALDESC:Events for Queen&#039;s Policy Engagement
BEGIN:VEVENT
DTSTART;TZID=Europe/London:20201029T170000
DTEND;TZID=Europe/London:20201029T183000
DTSTAMP:20260421T125928
CREATED:20201026T091644Z
LAST-MODIFIED:20201026T091644Z
UID:7212-1603990800-1603996200@qpol.dev.palebluedot.tv
SUMMARY:Annual Senator George J. Mitchell Peace Lecture 2020
DESCRIPTION:Thursday 29 October 2020 \n17:00pm to 18:30pm \nOnline via Microsoft Teams \nRegister via Eventbrite by noon on Monday 26 October 2020. \n  \nPumla Gobodo-Madikizela is Professor in the Faculty of Arts and Social Sciences at Stellenbosch University. She holds the South African National Research Foundation Chair in Violent Histories and Transgenerational Trauma. She has published extensively on victims and perpetrators of gross human rights violations\, and her current research interest is in intergenerational repercussions of historical trauma and exploring what the “repair” of these transgenerational effects might mean in societies where victims\, perpetrators\, and their descendants live together in the same country. \nHer books include the award-winning A Human Being Died that Night: A Story of Forgiveness\, which won the Christopher Award in the United States in 2003\, and the Alan Paton Award in South Africa in 2004; Narrating our Healing: Perspectives on Healing Trauma as co-author; Breaking Intergenerational Cycles of Repetition: A Global Dialogue on Historical Trauma and Memory\, as editor; and the more recent publications Post-Conflict Hauntings: Transforming Memories of Historical Trauma\, as co-editor; and the forthcoming volume\, History\, Trauma and Shame: Engaging the Past through Second Generation Dialogue as editor. \nAmong her awards are the following honorary degrees: Doctor of Laws from Rhodes University\, South Africa; Doctor of Theology from the Friedrich-Schiller University\, Germany; and Doctor of Laws from Holy Cross College\, Massachusetts. Since 2017\, she has been serving as Research Advisor and Global Scholar at Queen’s University\, Belfast\, affiliated with the Senator George Mitchell Institute for Global Peace\, Security and Justice. Recently\, she was named the 2020-2021 Walter Jackson Bate Fellow in Harvard University’s Radcliffe Institute for Advanced Study. \n
URL:https://qpol.dev.palebluedot.tv/event/annual-senator-george-j-mitchell-peace-lecture-2020/
CATEGORIES:Event
ATTACH;FMTTYPE=image/jpeg:https://qpol.dev.palebluedot.tv/wp-content/uploads/2020/10/Pumla.jpg
END:VEVENT
END:VCALENDAR