BEGIN:VCALENDAR
VERSION:2.0
PRODID:-//Queen&#039;s Policy Engagement - ECPv4.7.0.1//NONSGML v1.0//EN
CALSCALE:GREGORIAN
METHOD:PUBLISH
X-WR-CALNAME:Queen&#039;s Policy Engagement
X-ORIGINAL-URL:https://qpol.dev.palebluedot.tv
X-WR-CALDESC:Events for Queen&#039;s Policy Engagement
BEGIN:VEVENT
DTSTART;TZID=Europe/London:20161107T120000
DTEND;TZID=Europe/London:20161107T140000
DTSTAMP:20260421T213449
CREATED:20161003T105052Z
LAST-MODIFIED:20161007T111551Z
UID:1781-1478520000-1478527200@qpol.dev.palebluedot.tv
SUMMARY:Who\, what\, where\, when and why: apologies and dealing with the past
DESCRIPTION:This is the first in a series of three events from the ESRC-funded project ‘Apologies\, abuses and dealing with the past: A socio-legal analysis’. \nUsing Northern Ireland and the Republic of Ireland as a case study\, the event will explore the relationship between apologies\, abuses and dealing with past harms across three topics (paramilitary violence\, institutional child abuse and the economic crisis). In contrast to existing research on apologies\, this seminar focuses on the views of apologisers\, victims and the general public. \nWe will begin with an overview of our approach to this work. The first draft of our universal template for the construction of a ‘legitimate’ apology will then be circulated\, with a chance for group discussion and anonymous feedback. \nOne of the key aims of this stakeholder seminar is to inform further detailed empirical research in this area. \nFor further information and to register\, please email Dr Anna Bryson at Queen’s University Belfast. \n
URL:https://qpol.dev.palebluedot.tv/event/apologies-dealing-past/
LOCATION:Flexible Teaching Space\, Peter Froggatt Centre\, Queen's University Belfast\, Belfast\, Co Antrim\, BT7 1NN\, United Kingdom
CATEGORIES:Event
ATTACH;FMTTYPE=image/png:https://qpol.dev.palebluedot.tv/wp-content/uploads/2016/10/ESRC-Festival.png
END:VEVENT
END:VCALENDAR