BEGIN:VCALENDAR
VERSION:2.0
PRODID:-//Queen&#039;s Policy Engagement - ECPv4.7.0.1//NONSGML v1.0//EN
CALSCALE:GREGORIAN
METHOD:PUBLISH
X-WR-CALNAME:Queen&#039;s Policy Engagement
X-ORIGINAL-URL:https://qpol.dev.palebluedot.tv
X-WR-CALDESC:Events for Queen&#039;s Policy Engagement
BEGIN:VEVENT
DTSTART;TZID=Europe/London:20211110T110000
DTEND;TZID=Europe/London:20211110T123000
DTSTAMP:20260421T094806
CREATED:20211101T184201Z
LAST-MODIFIED:20211101T184201Z
UID:8103-1636542000-1636547400@qpol.dev.palebluedot.tv
SUMMARY:Better Data For Cleaner Air: The ADRC NI Online Air Pollution Dashboard
DESCRIPTION:Globally\, air pollution is one of the most severe environmental threats to public health. Knowing where air quality is poor can help people avoid the negative health impacts\, which will have broader effects on society and the economy. \nThe ADRC NI Environmental Health Research Group at Queen’s has developed an online dashboard to support this impact. This webinar will provide a demonstration of this dashboard\, along with an expert discussion. \nThis event will be led by researchers from The ADRC NI Environmental Health Research Group at Queen’s. \nThis event will be led by Dr Neil Rowland\, ADRC NI Research Fellow and regional Clean Air Champion for Northern Ireland; and Professor Duncan McVicar\, ADRC NI. \n
URL:https://qpol.dev.palebluedot.tv/event/better-data-for-cleaner-air-the-adrc-ni-online-air-pollution-dashboard/
LOCATION:Online
CATEGORIES:Event
ATTACH;FMTTYPE=image/jpeg:https://qpol.dev.palebluedot.tv/wp-content/uploads/2021/11/ESCR-Festival-NI.jpg
END:VEVENT
END:VCALENDAR