BEGIN:VCALENDAR
VERSION:2.0
PRODID:-//Queen&#039;s Policy Engagement - ECPv4.7.0.1//NONSGML v1.0//EN
CALSCALE:GREGORIAN
METHOD:PUBLISH
X-WR-CALNAME:Queen&#039;s Policy Engagement
X-ORIGINAL-URL:https://qpol.dev.palebluedot.tv
X-WR-CALDESC:Events for Queen&#039;s Policy Engagement
BEGIN:VEVENT
DTSTART;TZID=Europe/London:20210513T123000
DTEND;TZID=Europe/London:20210513T140000
DTSTAMP:20260421T080759
CREATED:20210423T152132Z
LAST-MODIFIED:20210423T152132Z
UID:7659-1620909000-1620914400@qpol.dev.palebluedot.tv
SUMMARY:Beyond Coronavirus: How Does the World Recover?
DESCRIPTION:Professor Henrietta Moore\, Founder and Director of the Institute for Global Prosperity\, UCL\, will deliver a keynote lecture entitled ‘Navigating our futures: Pathways to Global Prosperity in a post Covid world’. \nFollowing the keynote address\, Diarmuid O’Donovan\, Professor of Global Health at Queen’s University Belfast will deliver as discussant. \nAnn Watt\, from Pivotal  Public Policy Forum will facilitate a question and answer session\, fielding questions from the live\, online audience. \nFor more information and to register please click HERE \n
URL:https://qpol.dev.palebluedot.tv/event/beyond-coronavirus-how-does-the-world-recover/
LOCATION:Online
CATEGORIES:Event
ATTACH;FMTTYPE=image/jpeg:https://qpol.dev.palebluedot.tv/wp-content/uploads/2021/04/13-May-event.jpg
END:VEVENT
END:VCALENDAR