BEGIN:VCALENDAR
VERSION:2.0
PRODID:-//Queen&#039;s Policy Engagement - ECPv4.7.0.1//NONSGML v1.0//EN
CALSCALE:GREGORIAN
METHOD:PUBLISH
X-WR-CALNAME:Queen&#039;s Policy Engagement
X-ORIGINAL-URL:https://qpol.dev.palebluedot.tv
X-WR-CALDESC:Events for Queen&#039;s Policy Engagement
BEGIN:VEVENT
DTSTART;TZID=Europe/London:20170322T130000
DTEND;TZID=Europe/London:20170322T140000
DTSTAMP:20260421T161011
CREATED:20170322T163410Z
LAST-MODIFIED:20170322T163410Z
UID:2630-1490187600-1490191200@qpol.dev.palebluedot.tv
SUMMARY:Bioethical utopias: what the future of medicine says about our present
DESCRIPTION:With Professor Richard Ashcroft. \nAt a time of social and political uncertainty many people are choosing to focus their dreams and aspirations on their mental and bodily health. We may not be able to have better societies\, but perhaps we can have better minds and bodies. Taking up the hopes held out by biomedicine and biotechnology\, bioethicists have given further voice to these aspirations. In ideas of human enhancement and ‘the post human’ we find them projected into our collective future. Here\, it seems\, society will achieve Utopia\, one body at a time. In this talk Professor Ashcroft will explore the place of science\, medicine\, and technology in the way we imagine our collective and individual futures and what this might tell us about ourselves in the present moment. \nProfessor Richard Ashcroft is a member of the School of Law\, Queen Mary University of London. \nThis event is organised be the NI Ethics Forum which organises talks like this throughout the year. \nTo register click here.  \n
URL:https://qpol.dev.palebluedot.tv/event/bioethical-utopias-what-the-future-of-medicine-says-about-our-present/
LOCATION:Old Staff Common Room\, Queen's University Belfast\, University Road\, Belfast\, BT7 1NN\, United Kingdom
CATEGORIES:Event
ATTACH;FMTTYPE=image/jpeg:https://qpol.dev.palebluedot.tv/wp-content/uploads/2017/02/Imagine-Belfast.jpg
END:VEVENT
END:VCALENDAR