BEGIN:VCALENDAR
VERSION:2.0
PRODID:-//Queen&#039;s Policy Engagement - ECPv4.7.0.1//NONSGML v1.0//EN
CALSCALE:GREGORIAN
METHOD:PUBLISH
X-WR-CALNAME:Queen&#039;s Policy Engagement
X-ORIGINAL-URL:https://qpol.dev.palebluedot.tv
X-WR-CALDESC:Events for Queen&#039;s Policy Engagement
BEGIN:VEVENT
DTSTART;TZID=Europe/London:20201110T120000
DTEND;TZID=Europe/London:20201110T130000
DTSTAMP:20260421T111855
CREATED:20201030T155046Z
LAST-MODIFIED:20201030T155046Z
UID:7238-1605009600-1605013200@qpol.dev.palebluedot.tv
SUMMARY:Brave New Virtual World
DESCRIPTION:Lucy Baxter from QUB Film Studies will be joined by Dr Paul Best\, Queen’s University Social Work; Hanna Slattne\, Dramaturg in Immersive Media; and Sarah Ticho\, Founder/Director Hatsumi. \nThis workshop brings together trailblazers in virtual reality\, creative technology\, mental health and social care\, and the creative arts to discuss how cutting-edge interventions can be used to treat everything from abuse trauma and PTSD to phobias and social anxiety. Tune in to find out more about this Brave New Virtual World. \nThis event will be recorded. Joining instructions for Zoom will be sent 24 hours in advance. \n
URL:https://qpol.dev.palebluedot.tv/event/brave-new-virtual-world/
CATEGORIES:Event
ATTACH;FMTTYPE=image/jpeg:https://qpol.dev.palebluedot.tv/wp-content/uploads/2020/10/ESRC-logo.jpg
END:VEVENT
END:VCALENDAR