BEGIN:VCALENDAR
VERSION:2.0
PRODID:-//Queen&#039;s Policy Engagement - ECPv4.7.0.1//NONSGML v1.0//EN
CALSCALE:GREGORIAN
METHOD:PUBLISH
X-WR-CALNAME:Queen&#039;s Policy Engagement
X-ORIGINAL-URL:https://qpol.dev.palebluedot.tv
X-WR-CALDESC:Events for Queen&#039;s Policy Engagement
BEGIN:VEVENT
DTSTART;TZID=Europe/London:20201110T123000
DTEND;TZID=Europe/London:20201110T140000
DTSTAMP:20260421T113631
CREATED:20201030T155622Z
LAST-MODIFIED:20201030T155622Z
UID:7240-1605011400-1605016800@qpol.dev.palebluedot.tv
SUMMARY:Brexit and the Economy in Northern Ireland
DESCRIPTION:\n\n\nThis special event\, organised by the Chief Executives’ Club at Queen’s and Queen’s Policy Engagement\, will explore the latest Brexit developments and what they mean for Northern Ireland\, with a particular focus on the economy. \n\n\n\n\n\n\n\nChaired by John Campbell\, Prof David Phinnemore and Prof Katy Hayward from Queen’s will be joined by Angela McGowan\, Director of CBI Northern Ireland and Ann McGregor MBE\, Chief Executive of the Northern Ireland Chamber of Commerce and Industry. The panel will discuss what the future holds for the Northern Ireland economy in a post-Brexit world. \nThis event will be live streamed via Vimeo and recorded. Joining instructions will be sent 24 hours in advance \nThe Chief Executive’s Club at Queen’s is an executive business forum that facilitates and supports high-level networking in Northern Ireland. The Club was established in 1993 to connect\, enhance and strengthen partnerships between the University and the Northern Ireland business sector. \nClub membership comprises leaders from a wide range of businesses; private\, public\, charity and social enterprise organisations; entrepreneurs; and leaders in higher education. \n\n\n\n\n
URL:https://qpol.dev.palebluedot.tv/event/brexit-and-the-economy-in-northern-ireland/
CATEGORIES:Event
ATTACH;FMTTYPE=image/jpeg:https://qpol.dev.palebluedot.tv/wp-content/uploads/2020/10/ESRC-logo.jpg
END:VEVENT
END:VCALENDAR