BEGIN:VCALENDAR
VERSION:2.0
PRODID:-//Queen&#039;s Policy Engagement - ECPv4.7.0.1//NONSGML v1.0//EN
CALSCALE:GREGORIAN
METHOD:PUBLISH
X-WR-CALNAME:Queen&#039;s Policy Engagement
X-ORIGINAL-URL:https://qpol.dev.palebluedot.tv
X-WR-CALDESC:Events for Queen&#039;s Policy Engagement
BEGIN:VEVENT
DTSTART;TZID=Europe/London:20161124T183000
DTEND;TZID=Europe/London:20161124T200000
DTSTAMP:20260421T130143
CREATED:20161104T163454Z
LAST-MODIFIED:20161114T165448Z
UID:1949-1480012200-1480017600@qpol.dev.palebluedot.tv
SUMMARY:Brexit: Challenges and Opportunities with Micheál Martin TD
DESCRIPTION:Micheál Martin TD\, Leader of Fianna Fáil will make an address entitled “Brexit: Challenges and Opportunities” in the Great Hall\, Queen’s University Belfast on Thursday 24th November at 6.30pm. \nThe address will be followed by a question and answer session moderated by William Crawley\, BBC NI Journalist and Broadcaster. \n  \nRunning Order \n6.30pm     Welcome by William Crawley \n6.35pm     Introduction by Professor Richard English\, Pro-Vice-Chancellor for Internationalisation and  Engagement\, Queen’s University Belfast \n6.45pm     Address by Micheál Martin TD \n7.15pm     Question and Answer Session with Micheál Martin moderated by William Crawley \n7.55pm     Closing Remarks by Professor Richard English \n
URL:https://qpol.dev.palebluedot.tv/event/brexit-challenges-and-opportunities-with-micheal-martin-td/
LOCATION:Great Hall\, Queen's University Belfast\, Belfast\, BT7 1NN\, United Kingdom
CATEGORIES:Event
ATTACH;FMTTYPE=image/jpeg:https://qpol.dev.palebluedot.tv/wp-content/uploads/2016/11/Queens-2.jpg
ORGANIZER;CN="QPol":MAILTO:qpol@qub.ac.uk
END:VEVENT
END:VCALENDAR