BEGIN:VCALENDAR
VERSION:2.0
PRODID:-//Queen&#039;s Policy Engagement - ECPv4.7.0.1//NONSGML v1.0//EN
CALSCALE:GREGORIAN
METHOD:PUBLISH
X-WR-CALNAME:Queen&#039;s Policy Engagement
X-ORIGINAL-URL:https://qpol.dev.palebluedot.tv
X-WR-CALDESC:Events for Queen&#039;s Policy Engagement
BEGIN:VEVENT
DTSTART;TZID=Europe/London:20171106T193000
DTEND;TZID=Europe/London:20171106T210000
DTSTAMP:20260422T034914
CREATED:20171101T112632Z
LAST-MODIFIED:20171101T112632Z
UID:3607-1509996600-1510002000@qpol.dev.palebluedot.tv
SUMMARY:Brexit clinic: Northern Ireland in a changing Europe
DESCRIPTION:With the imminent UK withdrawal from the EU\, there has never been a bigger appetite for information on how negotiations are progressing and what the implications are for every aspect of our lives. \nSo if you want to know what the Great Repeal Bill is or what’s going to happen to such things as our borders and the environment\, then come along to our Brexit clinic for a consultation with a difference. \nPanel members include: \n\nProf David Phinnemore\nProf Lee McGowan\nDr Viviane Gravey\nDr Graham Brownlow\n\n  \n
URL:https://qpol.dev.palebluedot.tv/event/brexit-clinic-6-nov/
CATEGORIES:Event
ATTACH;FMTTYPE=image/jpeg:https://qpol.dev.palebluedot.tv/wp-content/uploads/2017/11/esrc.jpg
END:VEVENT
END:VCALENDAR