BEGIN:VCALENDAR
VERSION:2.0
PRODID:-//Queen&#039;s Policy Engagement - ECPv4.7.0.1//NONSGML v1.0//EN
CALSCALE:GREGORIAN
METHOD:PUBLISH
X-WR-CALNAME:Queen&#039;s Policy Engagement
X-ORIGINAL-URL:https://qpol.dev.palebluedot.tv
X-WR-CALDESC:Events for Queen&#039;s Policy Engagement
BEGIN:VEVENT
DTSTART;TZID=Europe/London:20170830T123000
DTEND;TZID=Europe/London:20170830T140000
DTSTAMP:20260422T010651
CREATED:20170726T151707Z
LAST-MODIFIED:20170726T151707Z
UID:3187-1504096200-1504101600@qpol.dev.palebluedot.tv
SUMMARY:QPol Brexit Discussion: an update on key policy considerations
DESCRIPTION:Having set in motion the formal process for leaving the EU\, the UK government is almost six months into a two-year negotiation process that continues to take place in a context of political uncertainty within the UK and the EU. QPOL Policy Engagement at Queen’s invites you to the latest in its series of ‘Brexit Clinics’ bringing together academic experts and stakeholders to discuss the issues facing the UK\, to consider the particular challenges the process poses for Northern Ireland and to provide informed insights into the process. \nSo whether your particular interest is the economy\, borders\, the enviroment or the Brexit process itself\, why not come along to the next Clinic on Wednesday 30 August at 12.30pm. The Clinic will consist of introductory comments on the process by senior Queen’s academics\, followed by a Q+A session and discussion addressing issues raised by participants. The panel members are: \n\nProfessor David Phinnemore\nProfessor Lee McGowan\nDr. Katy Hayward\nDr. Viviane Gravey\nDr Graham Brownlow \n\nTo this end\, participants are encouraged to submit questions in advance by emailing qpol@qub.ac.uk \nPlaces are limited so please register early. \n
URL:https://qpol.dev.palebluedot.tv/event/brexit-clnic/
LOCATION:Moot Court Room\, School of Law\, Tower Building\, Belfast\, Antrim \, BT7 1NN\, United Kingdom
CATEGORIES:Event
ATTACH;FMTTYPE=image/jpeg:https://qpol.dev.palebluedot.tv/wp-content/uploads/2017/05/QUB_150414_1464.jpg
ORGANIZER;CN="QPol":MAILTO:qpol@qub.ac.uk
END:VEVENT
END:VCALENDAR