BEGIN:VCALENDAR
VERSION:2.0
PRODID:-//Queen&#039;s Policy Engagement - ECPv4.7.0.1//NONSGML v1.0//EN
CALSCALE:GREGORIAN
METHOD:PUBLISH
X-WR-CALNAME:Queen&#039;s Policy Engagement
X-ORIGINAL-URL:https://qpol.dev.palebluedot.tv
X-WR-CALDESC:Events for Queen&#039;s Policy Engagement
BEGIN:VEVENT
DTSTART;TZID=Europe/London:20170623T170000
DTEND;TZID=Europe/London:20170623T183000
DTSTAMP:20260422T011821
CREATED:20170518T153234Z
LAST-MODIFIED:20170518T153234Z
UID:2830-1498237200-1498242600@qpol.dev.palebluedot.tv
SUMMARY:One year on: what Brexit means for our environment
DESCRIPTION:Environmental issues barely featured in the EU referendum campaign\, yet over 40 years of membership of the European Union have profoundly shaped environmental\, agri-food and energy systems both in Northern Ireland and in the Republic of Ireland. \nJoin us at Queen’s University Belfast on the first anniversary of the UK referendum on exiting the EU for this public roundtable that brings together academics and practitioners to discuss what Brexit means for our environment North and South. \nIssues for discussion include: \n\nTo what extent will Brexit impacts be felt beyond the UK?\nHow will Brexit\, and the prospect of a harder border impact whole-island supply chains in energy and agri-food?\nHow should agricultural and environmental policies change after Brexit – and where should these decisions be made?\n\nOrganised by the Political Studies Association of Ireland (PSAI) Environmental Politics Specialist Group\, confirmed speakers to date include Dr Viviane Gravey from Queen’s University and Dr Charlotte Burns from University of York. \nTo register\, click here. \n  \n
URL:https://qpol.dev.palebluedot.tv/event/brexit-environment/
LOCATION:Moot Court Room\, School of Law\, Tower Building\, Belfast\, Antrim \, BT7 1NN\, United Kingdom
CATEGORIES:Event
ATTACH;FMTTYPE=image/jpeg:https://qpol.dev.palebluedot.tv/wp-content/uploads/2017/05/QUB_150414_1464.jpg
END:VEVENT
END:VCALENDAR