BEGIN:VCALENDAR
VERSION:2.0
PRODID:-//Queen&#039;s Policy Engagement - ECPv4.7.0.1//NONSGML v1.0//EN
CALSCALE:GREGORIAN
METHOD:PUBLISH
X-WR-CALNAME:Queen&#039;s Policy Engagement
X-ORIGINAL-URL:https://qpol.dev.palebluedot.tv
X-WR-CALDESC:Events for Queen&#039;s Policy Engagement
BEGIN:VEVENT
DTSTART;TZID=Europe/London:20150604T180000
DTEND;TZID=Europe/London:20150604T200000
DTSTAMP:20260421T143943
CREATED:20150528T084128Z
LAST-MODIFIED:20150528T084656Z
UID:477-1433440800-1433448000@qpol.dev.palebluedot.tv
SUMMARY:Britain and Europe: The Endgame – An Irish Perspective
DESCRIPTION:Roundtable Discussion and Book Launch followed by wine reception \n  \nSpeakers: \n  \nDáithí O’Ceallaigh\, former Irish Ambassador in London \nPaul Gillespie\, Irish Times columnist \nTom Arnold\, Director General\, Institute for International and European Affairs \nJohn Bradley\, research consultant \n  \nThe roundtable will discuss some of the key findings and arguments contained in the latest publication of the Institute for International and European Affairs (IIEA) on the United Kingdom’s fraught relationship with the European Union: Britain and Europe: The Endgame – An Irish Perspective. The major new publication from the IIEA examines the consequences of a possible ‘Brexit’ – British withdrawal from the EU – from a number of perspectives\, including: the political and economic future of the United Kingdom; options for an external relationship with Europe; the impact on the EU as a whole and especially Ireland of Brexit\, with particular reference to the political\, economic and business dimensions of Irish-British relations. The volume pays particular attention to the possible implications of Brexit for Northern Ireland. Britain and Europe: The Endgame – An Irish Perspective can be downloaded from the IIEA:  http://www.iiea.com/publications/britain-and-europe-the-endgame—an-irish-perspective-now-availabl \n  \n
URL:https://qpol.dev.palebluedot.tv/event/britain-and-europe-the-endgame-an-irish-perspective/
LOCATION:Old Staff Common Room\, Queen's University Belfast\, University Road\, Belfast\, BT7 1NN\, United Kingdom
CATEGORIES:Event
ATTACH;FMTTYPE=image/jpeg:https://qpol.dev.palebluedot.tv/wp-content/uploads/2015/05/EU-2.jpg
END:VEVENT
END:VCALENDAR