BEGIN:VCALENDAR
VERSION:2.0
PRODID:-//Queen&#039;s Policy Engagement - ECPv4.7.0.1//NONSGML v1.0//EN
CALSCALE:GREGORIAN
METHOD:PUBLISH
X-WR-CALNAME:Queen&#039;s Policy Engagement
X-ORIGINAL-URL:https://qpol.dev.palebluedot.tv
X-WR-CALDESC:Events for Queen&#039;s Policy Engagement
BEGIN:VEVENT
DTSTART;TZID=Europe/London:20201211T090000
DTEND;TZID=Europe/London:20201211T133000
DTSTAMP:20260421T100057
CREATED:20201113T104651Z
LAST-MODIFIED:20201113T104651Z
UID:7274-1607677200-1607693400@qpol.dev.palebluedot.tv
SUMMARY:Building Back Better: A Future for Geothermal Energy in Northern Ireland Conference
DESCRIPTION:This online conference is the first in a series considering the future for Geothermal Energy in Northern Ireland. \nAs we look toward our recovery from a global pandemic\, we can take a fresh and renewed approach to build a fairer\, greener and more resilient economy. Geothermal Energy can play a fundamental role in this as we build back better. \nHosted by the Centre for Sustainability\, Equality and Climate Action (SECA) at Queen’s University Belfast and the Geological Survey of Northern Ireland (GSNI). \nTo view the agenda for the conference\,  please click here. \n
URL:https://qpol.dev.palebluedot.tv/event/building-back-better-a-future-for-geothermal-energy-in-northern-ireland-conference/
LOCATION:Zoom
CATEGORIES:Event
ATTACH;FMTTYPE=image/jpeg:https://qpol.dev.palebluedot.tv/wp-content/uploads/2020/11/Geothermal-Conf.jpg
END:VEVENT
END:VCALENDAR