BEGIN:VCALENDAR
VERSION:2.0
PRODID:-//Queen&#039;s Policy Engagement - ECPv4.7.0.1//NONSGML v1.0//EN
CALSCALE:GREGORIAN
METHOD:PUBLISH
X-WR-CALNAME:Queen&#039;s Policy Engagement
X-ORIGINAL-URL:https://qpol.dev.palebluedot.tv
X-WR-CALDESC:Events for Queen&#039;s Policy Engagement
BEGIN:VEVENT
DTSTART;TZID=Europe/London:20171107T100000
DTEND;TZID=Europe/London:20171107T120000
DTSTAMP:20260422T052222
CREATED:20171101T114727Z
LAST-MODIFIED:20171101T114727Z
UID:3610-1510048800-1510056000@qpol.dev.palebluedot.tv
SUMMARY:Can we improve wellbeing for pupils?
DESCRIPTION:A lot of research looking at young people’s wellbeing has been carried out in schools but little is known of what impact this research has had in terms of informing policy. \nThis closed session will bring together researchers\, pupils and teachers to discuss what we can learn from research and each other about pupil wellbeing. We’ll also share our findings from the Wellbeing in Schools study. \n
URL:https://qpol.dev.palebluedot.tv/event/can-improve-wellbeing-pupils/
CATEGORIES:Event
ATTACH;FMTTYPE=image/jpeg:https://qpol.dev.palebluedot.tv/wp-content/uploads/2017/11/esrc.jpg
END:VEVENT
END:VCALENDAR