BEGIN:VCALENDAR
VERSION:2.0
PRODID:-//Queen&#039;s Policy Engagement - ECPv4.7.0.1//NONSGML v1.0//EN
CALSCALE:GREGORIAN
METHOD:PUBLISH
X-WR-CALNAME:Queen&#039;s Policy Engagement
X-ORIGINAL-URL:https://qpol.dev.palebluedot.tv
X-WR-CALDESC:Events for Queen&#039;s Policy Engagement
BEGIN:VEVENT
DTSTART;TZID=Europe/London:20170511T173000
DTEND;TZID=Europe/London:20170511T190000
DTSTAMP:20260422T042613
CREATED:20170424T155029Z
LAST-MODIFIED:20170424T155029Z
UID:2724-1494523800-1494529200@qpol.dev.palebluedot.tv
SUMMARY:A Giant’s Cause: Solutions for Brexit with Professor Carl Baudenbacher
DESCRIPTION:The future relationship between the United Kingdom and the European Union remains open and one of the options floated has been for the UK to join the European Economic Area (EEA) on the EFTA side. \nThe EEA extends the EU’s Single Market to three EFTA countries: Norway\, Iceland and Liechtenstein. These countries are simultaneously members of the European Free Trade Association (EFTA). They are not subject to the jurisdiction of the Court of Justice of the European Union\, but to that of the EFTA Court. While Prime Minister Theresa May has written that the UK does not seek to remain part of the Single Market\, the UK Government’s position on the ‘fourth freedom\,’ the free movement of persons\, has softened. \nJoin QPol at Queen’s as we welcome Professor Carl Baudenbacher\, President of the EFTA Court\, who will explore whether the EEA model\, or a bespoke variation of it\, would be a suitable way forward for the UK\, and ensure the harmony and soft-border between the isles’ two countries. \nTo register\, click here. \n\nAbout Professor Carl Baudenbacher\, President of the EFTA Court \nProfessor Carl Baudenbacher has been the Liechtenstein Judge of the EFTA Court since 1995 and its President since 2003. From 1987 to 2013 he was the Chair of Private\, Commercial and Economic Law and the Managing Director of the Institute of European and International Business Law at the University of St. Gallen HSG. From 1993 to 2004\, he was a Permanent Visiting Professor at the University of Texas. He is now the Director of the Competence Center for European and International Law at the University of St Gallen HSG. \n
URL:https://qpol.dev.palebluedot.tv/event/carl-baudenbacher/
LOCATION:Great Hall\, Queen's University Belfast\, Belfast\, BT7 1NN\, United Kingdom
CATEGORIES:Event
ATTACH;FMTTYPE=image/jpeg:https://qpol.dev.palebluedot.tv/wp-content/uploads/2017/04/Carl-Baudenbacher.jpg
ORGANIZER;CN="QPol":MAILTO:qpol@qub.ac.uk
END:VEVENT
END:VCALENDAR