BEGIN:VCALENDAR
VERSION:2.0
PRODID:-//Queen&#039;s Policy Engagement - ECPv4.7.0.1//NONSGML v1.0//EN
CALSCALE:GREGORIAN
METHOD:PUBLISH
X-WR-CALNAME:Queen&#039;s Policy Engagement
X-ORIGINAL-URL:https://qpol.dev.palebluedot.tv
X-WR-CALDESC:Events for Queen&#039;s Policy Engagement
BEGIN:VEVENT
DTSTART;TZID=Europe/London:20181107T190000
DTEND;TZID=Europe/London:20181107T203000
DTSTAMP:20260421T193108
CREATED:20181023T203330Z
LAST-MODIFIED:20181023T203330Z
UID:5044-1541617200-1541622600@qpol.dev.palebluedot.tv
SUMMARY:Climate change: how do we respond?
DESCRIPTION:Are you passionate about combatting climate change? \nThis public event offers a space for shared learning and dialogue around climate change and societal responses to the key challenges facing our society and planet. \nWith Dr Amanda Slevin. To register please click here.  \n
URL:https://qpol.dev.palebluedot.tv/event/climate-change-respond/
LOCATION:Canada Room and Council Chamber\, Queen's University Belfast\,  University Road\, Belfast\, BT7 1NN\, United Kingdom
CATEGORIES:Event
ATTACH;FMTTYPE=image/jpeg:https://qpol.dev.palebluedot.tv/wp-content/uploads/2018/09/ESRCNI_Square.jpg
END:VEVENT
END:VCALENDAR