BEGIN:VCALENDAR
VERSION:2.0
PRODID:-//Queen&#039;s Policy Engagement - ECPv4.7.0.1//NONSGML v1.0//EN
CALSCALE:GREGORIAN
METHOD:PUBLISH
X-WR-CALNAME:Queen&#039;s Policy Engagement
X-ORIGINAL-URL:https://qpol.dev.palebluedot.tv
X-WR-CALDESC:Events for Queen&#039;s Policy Engagement
BEGIN:VEVENT
DTSTART;TZID=Europe/London:20191109T093000
DTEND;TZID=Europe/London:20191109T173000
DTSTAMP:20260421T173305
CREATED:20191014T091119Z
LAST-MODIFIED:20191014T091119Z
UID:6061-1573291800-1573320600@qpol.dev.palebluedot.tv
SUMMARY:Climate Jobs and a Just Transition: Responding to our Climate Emergency
DESCRIPTION:As a society we have passed a ‘tipping point’ on addressing the climate and ecological crisis; politicians and decision-makers globally are ‘playing catch up’ with recent mobilisations demanding greater and faster action on our climate crisis. The most recent climate science stresses the scale and urgency of reducing greenhouse emissions. \nIn order to meet the goal of the 2015 Paris Agreement to stay below two degrees warming\, global emissions will have to peak less than a year from now and thereafter reduce by more than seven percent annually. If we want to meet the goal of the 2018 Intergovernmental Panel on Climate Change that is the lower and safer 1.5 degree warming target\, we require ‘far-reaching and unprecedented changes in all aspects of society’ with reductions of between 30-50 percent in global emissions by 2030 in energy\, land use\, transportation and agriculture. We desperately need leadership to meet this challenge.If we are serious about creating a green and sustainable economy\, we need to transition to a green economy though policies such as a Green New Deal and a Just Transition. The trades unions have a vital part to play in this transition and struggle for a more sustainable\, climate resilient and less unequal economy. \nSome questions this conference addresses includes: \nAt this time of growing popular and political acceptance of the scale and urgency of the climate crisis\, do we need a ‘wartime mobilisation’ ? \nAnd does this mean nationalisation of the energy system to deliver a just transition? \nHow doe we ensure that in moving from fossil fuels to renewables\, no community is left behind or that working families bear an unfair burden? \nWhat energy technologies do we need? \n
URL:https://qpol.dev.palebluedot.tv/event/climate-jobs-and-a-just-transition-responding-to-our-climate-emergency/
LOCATION:Canada Room and Council Chamber\, Queen's University Belfast\,  University Road\, Belfast\, BT7 1NN\, United Kingdom
CATEGORIES:Event
ATTACH;FMTTYPE=image/jpeg:https://qpol.dev.palebluedot.tv/wp-content/uploads/2019/10/Climate-Jobs.jpeg
END:VEVENT
END:VCALENDAR