BEGIN:VCALENDAR
VERSION:2.0
PRODID:-//Queen&#039;s Policy Engagement - ECPv4.7.0.1//NONSGML v1.0//EN
CALSCALE:GREGORIAN
METHOD:PUBLISH
X-WR-CALNAME:Queen&#039;s Policy Engagement
X-ORIGINAL-URL:https://qpol.dev.palebluedot.tv
X-WR-CALDESC:Events for Queen&#039;s Policy Engagement
BEGIN:VEVENT
DTSTART;TZID=Europe/London:20160314T123000
DTEND;TZID=Europe/London:20160314T140000
DTSTAMP:20260421T181723
CREATED:20160222T153958Z
LAST-MODIFIED:20160229T160911Z
UID:966-1457958600-1457964000@qpol.dev.palebluedot.tv
SUMMARY:Controversies about the Human Right to Health
DESCRIPTION:Health advocates are increasingly arguing that there is a human right to health that must be respected by all governments. What\, though\, is the relationship between the right to health and the right to health-care? Critics of the human right to health have argued that it leads to uncoordinated and grossly inefficient health care allocation\, and is generally captured by those who are already relatively advantaged. While there is evidence that the human right to health has been used in this way\, Professor Jo Wolff from University College London\, will argue that these practices are a distortion of the human right to health as it should be understood. \nThis event is organised by the Northern Ireland Ethics Forum in association with QPol\, as part of Imagine: Festival of Ideas and Politics 2016. \nTo book your place\, click here.  \n
URL:https://qpol.dev.palebluedot.tv/event/controversies-about-the-human-right-to-health/
LOCATION:Canada Room and Council Chamber\, Queen's University Belfast\,  University Road\, Belfast\, BT7 1NN\, United Kingdom
ATTACH;FMTTYPE=image/jpeg:https://qpol.dev.palebluedot.tv/wp-content/uploads/2016/02/2016-Imagine-Festival-Banner-1100.jpg
ORGANIZER;CN="QPol":MAILTO:qpol@qub.ac.uk
END:VEVENT
END:VCALENDAR