BEGIN:VCALENDAR
VERSION:2.0
PRODID:-//Queen&#039;s Policy Engagement - ECPv4.7.0.1//NONSGML v1.0//EN
CALSCALE:GREGORIAN
METHOD:PUBLISH
X-WR-CALNAME:Queen&#039;s Policy Engagement
X-ORIGINAL-URL:https://qpol.dev.palebluedot.tv
X-WR-CALDESC:Events for Queen&#039;s Policy Engagement
BEGIN:VEVENT
DTSTART;TZID=Europe/London:20211112T170000
DTEND;TZID=Europe/London:20211112T180000
DTSTAMP:20260421T062146
CREATED:20211101T185106Z
LAST-MODIFIED:20211101T185106Z
UID:8109-1636736400-1636740000@qpol.dev.palebluedot.tv
SUMMARY:#CookingUpHappiness
DESCRIPTION:Whilst cooking can help achieve these goals\, we want to shine the spotlight on the enjoyment of cooking\, and the potential positives it can have for one’s wellbeing. \n#CookingUpHappiness is a one-week online\, collaborative social media campaign\, gathering “happy recipes”\, i.e. comfort food recipes\, family recipes passed down\, or simply recipes with happy memories\, with the aim of building an online community recipe book filled with foods to make you happy. Social scientists will also be sharing their research on the area of cooking and wellbeing throughout the week. All of this can be found under the hashtag #CookingUpHappiness. At the end of the week (Fri 12th) we will pick one of the happy recipe submissions which will be cooked up live by a professional chef for everyone to cook along with online. After the week long event\, everyone can access the freely available #CookingUpHappiness recipe book online. \nThis will be led by Dr Fiona Lavelle and Dr Niamh O’Kane from the Institute for Global Food Security at Queen’s University Belfast \n
URL:https://qpol.dev.palebluedot.tv/event/cookinguphappiness/
LOCATION:Online
CATEGORIES:Event
ATTACH;FMTTYPE=image/jpeg:https://qpol.dev.palebluedot.tv/wp-content/uploads/2021/11/ESCR-Festival-NI.jpg
END:VEVENT
END:VCALENDAR