BEGIN:VCALENDAR
VERSION:2.0
PRODID:-//Queen&#039;s Policy Engagement - ECPv4.7.0.1//NONSGML v1.0//EN
CALSCALE:GREGORIAN
METHOD:PUBLISH
X-WR-CALNAME:Queen&#039;s Policy Engagement
X-ORIGINAL-URL:https://qpol.dev.palebluedot.tv
X-WR-CALDESC:Events for Queen&#039;s Policy Engagement
BEGIN:VEVENT
DTSTART;TZID=Europe/London:20201111T160000
DTEND;TZID=Europe/London:20201111T170000
DTSTAMP:20260421T094543
CREATED:20201030T160645Z
LAST-MODIFIED:20201030T160645Z
UID:7245-1605110400-1605114000@qpol.dev.palebluedot.tv
SUMMARY:Creating a consumer-friendly sustainability label for food
DESCRIPTION:\n\n\nInterested in responsible food shopping? Researchers at Queen’s are looking into creating simple sustainability labels for food and drink. Join this talk hosted by Dr Tony Benson to hear about the processes and challenges faced by industry and researchers in helping you discover the real cost of your weekly shop. There will also be an opportunity to have your say via an interactive poll.\n\n\n\n\n\n\n\nThis online event will be recorded. Joining instructions will be sent 24 hours in advance. \n\n\n\n\n
URL:https://qpol.dev.palebluedot.tv/event/creating-a-consumer-friendly-sustainability-label-for-food/
CATEGORIES:Event
ATTACH;FMTTYPE=image/jpeg:https://qpol.dev.palebluedot.tv/wp-content/uploads/2020/10/ESRC-logo.jpg
END:VEVENT
END:VCALENDAR