BEGIN:VCALENDAR
VERSION:2.0
PRODID:-//Queen&#039;s Policy Engagement - ECPv4.7.0.1//NONSGML v1.0//EN
CALSCALE:GREGORIAN
METHOD:PUBLISH
X-WR-CALNAME:Queen&#039;s Policy Engagement
X-ORIGINAL-URL:https://qpol.dev.palebluedot.tv
X-WR-CALDESC:Events for Queen&#039;s Policy Engagement
BEGIN:VEVENT
DTSTART;TZID=Europe/London:20191107T190000
DTEND;TZID=Europe/London:20191107T213000
DTSTAMP:20260421T161504
CREATED:20190927T090735Z
LAST-MODIFIED:20190927T091227Z
UID:5975-1573153200-1573162200@qpol.dev.palebluedot.tv
SUMMARY:Creating our sustainable future
DESCRIPTION:Climate breakdown is one of the biggest issues facing our socio-ecological world. The complexity of the climate issues facing our planet can often leave us wondering what we can do\, and where to even begin. ‘Creating our Sustainable Future’ is an interactive workshop which offers participants the opportunity to consider these pressing socio-ecological issues in a hands-on\, stimulating environment. \nOpening with a short quiz\, participants will work together to share their knowledge of the environment and society (eco-prizes are available for winners). Through discussion\, group work\, and engaging with ‘Anna’s Journey’ (a new short play about unsustainability co-written and performed by QUB staff and students)\, participants will discuss climate breakdown and other related environmental degradation and socio-economic inequalities; examining causes\, consequences and alternatives to help us move towards a sustainable future. \nFacilitated by staff and students from across the University\, participants will work in small groups to create a piece of art (visual\, poetry\, storytelling\, etc.) to communicate their vision for a greener\, healthier and sustainable future; using the UN Sustainable Development Goals and pressing environmental and social issues as inspiration. The workshop will conclude with a discussion and refreshments. \n
URL:https://qpol.dev.palebluedot.tv/event/creating-our-sustainable-future/
LOCATION:Canada Room and Council Chamber\, Queen's University Belfast\,  University Road\, Belfast\, BT7 1NN\, United Kingdom
CATEGORIES:Event
ATTACH;FMTTYPE=image/jpeg:https://qpol.dev.palebluedot.tv/wp-content/uploads/2019/09/https___cdn.evbuc_.com_images_72231147_313283896071_1_original.jpg
END:VEVENT
END:VCALENDAR