BEGIN:VCALENDAR
VERSION:2.0
PRODID:-//Queen&#039;s Policy Engagement - ECPv4.7.0.1//NONSGML v1.0//EN
CALSCALE:GREGORIAN
METHOD:PUBLISH
X-WR-CALNAME:Queen&#039;s Policy Engagement
X-ORIGINAL-URL:https://qpol.dev.palebluedot.tv
X-WR-CALDESC:Events for Queen&#039;s Policy Engagement
BEGIN:VEVENT
DTSTART;TZID=Europe/London:20200804T113000
DTEND;TZID=Europe/London:20200804T123000
DTSTAMP:20260421T112357
CREATED:20200701T150503Z
LAST-MODIFIED:20200701T153043Z
UID:6963-1596540600-1596544200@qpol.dev.palebluedot.tv
SUMMARY:Dynamic Capabilities: Making Businesses More Agile in an Uncertain World
DESCRIPTION:Dynamic capabilities\, with its emphasis on uncertainty\, provides an analytical tool for thinking about creating better strategy and more agile businesses. In this webinar masterclass Graham explores the benefits to organisations in focusing on their dynamic capabilities to help future proof for the uncertain times ahead. \nDr Graham Brownlow is Senior Lecturer in Economics at Queen’s Management School. Since 2012 he has been editor/co-editor of Irish Economic and Social History. Apart from his research on topics in economic and business history\, such as the rise and fall of John DeLorean\, Graham has published on contemporary topics such as devolution\, rebalancing and Brexit. He worked in Whitehall and finance prior to earning a PhD. \n\nAccess for this event: \nThis webinar will be delivered through the online platform  Zoom. \nPlease register with your email for your free attendance \nPlease check your email – we will email your Zoom access link and login up to 24 hours in advance of the event \nContact Us: \nClintonLeadershipEvent@qub.ac.uk \n\n
URL:https://qpol.dev.palebluedot.tv/event/dynamic-capabilities-making-businesses-more-agile-in-an-uncertain-world/
LOCATION:Online
CATEGORIES:Event
ATTACH;FMTTYPE=image/jpeg:https://qpol.dev.palebluedot.tv/wp-content/uploads/2020/07/Leadership-INstitute.jpg
END:VEVENT
END:VCALENDAR