BEGIN:VCALENDAR
VERSION:2.0
PRODID:-//Queen&#039;s Policy Engagement - ECPv4.7.0.1//NONSGML v1.0//EN
CALSCALE:GREGORIAN
METHOD:PUBLISH
X-WR-CALNAME:Queen&#039;s Policy Engagement
X-ORIGINAL-URL:https://qpol.dev.palebluedot.tv
X-WR-CALDESC:Events for Queen&#039;s Policy Engagement
BEGIN:VEVENT
DTSTART;TZID=Europe/London:20171107T183000
DTEND;TZID=Europe/London:20171107T200000
DTSTAMP:20260422T034921
CREATED:20171101T115008Z
LAST-MODIFIED:20171101T115008Z
UID:3613-1510079400-1510084800@qpol.dev.palebluedot.tv
SUMMARY:Economics as story telling?
DESCRIPTION:Do your eyes glaze over whenever you hear the word ‘economics’? Are you intimidated or impressed by economists commenting about the state of the economy and the prospects of economic growth? Is there a ‘magic money tree’? \nJoin Professor John Barry from Queen’s University as he lifts the veil on economics with his entertaining and critical account of economics as a form of storytelling. \n
URL:https://qpol.dev.palebluedot.tv/event/economics-story-telling/
LOCATION:Canada Room and Council Chamber\, Queen's University Belfast\,  University Road\, Belfast\, BT7 1NN\, United Kingdom
ATTACH;FMTTYPE=image/jpeg:https://qpol.dev.palebluedot.tv/wp-content/uploads/2017/11/esrc.jpg
END:VEVENT
END:VCALENDAR