BEGIN:VCALENDAR
VERSION:2.0
PRODID:-//Queen&#039;s Policy Engagement - ECPv4.7.0.1//NONSGML v1.0//EN
CALSCALE:GREGORIAN
METHOD:PUBLISH
X-WR-CALNAME:Queen&#039;s Policy Engagement
X-ORIGINAL-URL:https://qpol.dev.palebluedot.tv
X-WR-CALDESC:Events for Queen&#039;s Policy Engagement
BEGIN:VEVENT
DTSTART;TZID=Europe/London:20190226T180000
DTEND;TZID=Europe/London:20190226T193000
DTSTAMP:20260421T193744
CREATED:20190213T154132Z
LAST-MODIFIED:20190213T154132Z
UID:5376-1551204000-1551209400@qpol.dev.palebluedot.tv
SUMMARY:Enhancing the democratic debate in the era of fake news with Stephen Nolan
DESCRIPTION:\n\n\n\nQueen’s University Belfast is delighted to welcome Stephen Nolan\, radio and television presenter\, to deliver a public lecture at the University on 26 February at 6.00pm in the Emeleus Lecture Theatre. \nTo register\, please click here.  \n\n\n\n
URL:https://qpol.dev.palebluedot.tv/event/enhancing-the-democratic-debate-in-the-era-of-fake-news-with-stephen-nolan/
CATEGORIES:Event
ATTACH;FMTTYPE=image/jpeg:https://qpol.dev.palebluedot.tv/wp-content/uploads/2019/02/Stephen-Nolan.jpg
ORGANIZER;CN="Queen%27s%20Policy%20Engagement":MAILTO:qpol@qub.ac.uk
END:VEVENT
END:VCALENDAR