BEGIN:VCALENDAR
VERSION:2.0
PRODID:-//Queen&#039;s Policy Engagement - ECPv4.7.0.1//NONSGML v1.0//EN
CALSCALE:GREGORIAN
METHOD:PUBLISH
X-WR-CALNAME:Queen&#039;s Policy Engagement
X-ORIGINAL-URL:https://qpol.dev.palebluedot.tv
X-WR-CALDESC:Events for Queen&#039;s Policy Engagement
BEGIN:VEVENT
DTSTART;TZID=Europe/London:20181023T130000
DTEND;TZID=Europe/London:20181023T140000
DTSTAMP:20260421T170856
CREATED:20181011T133445Z
LAST-MODIFIED:20181011T133445Z
UID:4981-1540299600-1540303200@qpol.dev.palebluedot.tv
SUMMARY:Exploring a "Blue" Brexit
DESCRIPTION:What are the possible impacts of Brexit on the marine environment? \nThe McClay Library are hosting a lunchtime talk which looks to explore some of the known unknowns in a post Brexit world as well as highlighting the importance of international agreements and environmental targets. \nEllen MacMahon coordinates the Northern Ireland Marine Task Force (NIMTF)\, a coalition of 10 non-government environmental organisations with the support of approximately 100\,000 local people. NIMTF are working towards healthy\, productive and resilient seas for Northern Ireland. \nThe talk will take place in The Auditorium. \nTea and Coffee will be provided. To register\, please click here.  \n
URL:https://qpol.dev.palebluedot.tv/event/exploring-blue-brexit/
LOCATION:The McClay Library\, 10 College Park Avenue\, Belfast\, Antrim\, BT7 1LP\, United Kingdom
CATEGORIES:Event
ATTACH;FMTTYPE=image/jpeg:https://qpol.dev.palebluedot.tv/wp-content/uploads/2018/10/NI-Marine.jpg
END:VEVENT
END:VCALENDAR