BEGIN:VCALENDAR
VERSION:2.0
PRODID:-//Queen&#039;s Policy Engagement - ECPv4.7.0.1//NONSGML v1.0//EN
CALSCALE:GREGORIAN
METHOD:PUBLISH
X-WR-CALNAME:Queen&#039;s Policy Engagement
X-ORIGINAL-URL:https://qpol.dev.palebluedot.tv
X-WR-CALDESC:Events for Queen&#039;s Policy Engagement
BEGIN:VEVENT
DTSTART;TZID=Europe/London:20200707T113000
DTEND;TZID=Europe/London:20200707T123000
DTSTAMP:20260421T130208
CREATED:20200701T144748Z
LAST-MODIFIED:20200701T144748Z
UID:6953-1594121400-1594125000@qpol.dev.palebluedot.tv
SUMMARY:Exploring the Use of Artificial Intelligence in Tackling the Pandemic
DESCRIPTION:In AI we trust? In this webinar Dr Laura Steele explores the use of artificial intelligence in tackling the Coronavirus Pandemic. Artificial Intelligence (AI) is being deployed in the fight against Coronavirus\, with projects ranging from disease detection to the identification of potential treatments. \nHow likely is AI to deliver meaningful results and what ethical issues may be encountered along the way? \nIn this webinar we will briefly examine the history of AI and explore the current state of the art\, before considering several contemporary applications. We will separate reality from hype\, addressing the strengths and limitations of AI. The session will conclude by highlighting some of the ethical concerns that need to be addressed in order to maximise the value of this important technology. \nYou can register for the session here\,  taking place on Tuesday 7th July 2020\, 11:30 AM – 12:30 PM. \n  \n\n\n\n\n\n\n\n\n\n
URL:https://qpol.dev.palebluedot.tv/event/exploring-the-use-of-artificial-intelligence-in-tackling-the-pandemic/
LOCATION:Online
CATEGORIES:Event
ATTACH;FMTTYPE=image/jpeg:https://qpol.dev.palebluedot.tv/wp-content/uploads/2020/07/Leadership-INstitute.jpg
END:VEVENT
END:VCALENDAR