BEGIN:VCALENDAR
VERSION:2.0
PRODID:-//Queen&#039;s Policy Engagement - ECPv4.7.0.1//NONSGML v1.0//EN
CALSCALE:GREGORIAN
METHOD:PUBLISH
X-WR-CALNAME:Queen&#039;s Policy Engagement
X-ORIGINAL-URL:https://qpol.dev.palebluedot.tv
X-WR-CALDESC:Events for Queen&#039;s Policy Engagement
BEGIN:VEVENT
DTSTART;TZID=Europe/London:20170920T170000
DTEND;TZID=Europe/London:20170920T183000
DTSTAMP:20260421T202717
CREATED:20170904T120432Z
LAST-MODIFIED:20170904T120432Z
UID:3398-1505926800-1505932200@qpol.dev.palebluedot.tv
SUMMARY:Feeding nine billion: the ultimate global challenge
DESCRIPTION:Join Queen’s University for the first in a major new series of Global Challenges Debates where a leading Queen’s academic engages in debate with a leading figure from another major institution\, to consider an issue of global significance. \nThe first debate will feature: \n\nProfessor Chris Elliott\, Queen’s University Belfast\, Founder of the Institute for Global Food Security and Pro-Vice-Chancellor for the Faculty of Medicine\, Health and Life Sciences\nMichelle Grant\, Swiss Federal Institute of Technology\, Executive Director of the World Food System Centre\, Swiss Federal Institute of Technology (ETH Zurich)\n\nFollowing the presentations\, a debate will be chaired by Professor Nigel Scollan\, Director of the Institute for Global Food Security\, Queen’s University Belfast \nDoors open 4.30pm Seats will be issued on a first come first served basis (no registration required) Refreshments will be served following the debate. \n
URL:https://qpol.dev.palebluedot.tv/event/feeding-nine-billion-ultimate-global-challenge/
LOCATION:Great Hall\, Queen's University Belfast\, Belfast\, BT7 1NN\, United Kingdom
ATTACH;FMTTYPE=image/jpeg:https://qpol.dev.palebluedot.tv/wp-content/uploads/2016/11/Queens-2.jpg
END:VEVENT
END:VCALENDAR