BEGIN:VCALENDAR
VERSION:2.0
PRODID:-//Queen&#039;s Policy Engagement - ECPv4.7.0.1//NONSGML v1.0//EN
CALSCALE:GREGORIAN
METHOD:PUBLISH
X-WR-CALNAME:Queen&#039;s Policy Engagement
X-ORIGINAL-URL:https://qpol.dev.palebluedot.tv
X-WR-CALDESC:Events for Queen&#039;s Policy Engagement
BEGIN:VEVENT
DTSTART;TZID=Europe/London:20171110T100000
DTEND;TZID=Europe/London:20171110T130000
DTSTAMP:20260422T014752
CREATED:20171101T121644Z
LAST-MODIFIED:20171101T121644Z
UID:3624-1510308000-1510318800@qpol.dev.palebluedot.tv
SUMMARY:The good\, the bad and the ugly
DESCRIPTION:When it comes to the world of business\, it’s not enough anymore for businesses just to make a profit. There is an expectation on them to play a wider role in society and to engage in a much more positive way. So what exactly should the relationship be between the business world and the wider society? \nJoin Dr Shirley-Ann Hazlett to discuss the role of business in society and to find out why some businesses are better at it than others. \nThis event is aimed at young people aged 16-18 years. \n
URL:https://qpol.dev.palebluedot.tv/event/good-bad-ugly/
LOCATION:Riddel Hall\, 185 Stranmillis Road \, Belfast\, Co Antrim \, BT9 5EE\, United Kingdom
ATTACH;FMTTYPE=image/jpeg:https://qpol.dev.palebluedot.tv/wp-content/uploads/2017/11/esrc.jpg
END:VEVENT
END:VCALENDAR