BEGIN:VCALENDAR
VERSION:2.0
PRODID:-//Queen&#039;s Policy Engagement - ECPv4.7.0.1//NONSGML v1.0//EN
CALSCALE:GREGORIAN
METHOD:PUBLISH
X-WR-CALNAME:Queen&#039;s Policy Engagement
X-ORIGINAL-URL:https://qpol.dev.palebluedot.tv
X-WR-CALDESC:Events for Queen&#039;s Policy Engagement
BEGIN:VEVENT
DTSTART;TZID=Europe/London:20191023T160000
DTEND;TZID=Europe/London:20191023T180000
DTSTAMP:20260421T132317
CREATED:20191003T083619Z
LAST-MODIFIED:20191003T083619Z
UID:5991-1571846400-1571853600@qpol.dev.palebluedot.tv
SUMMARY:‘Have you got what it takes to start a revolution or are you a sheep!!’ QUB Sustainability Lecture with Sir Tim Smit
DESCRIPTION:Tim Smit is Executive Vice-Chair and Co-founder of the multi award-winning Eden Project in Cornwall. Since its opening in 2001\, over 20 million people have come to see a once sterile pit\, turned into a cradle of life containing world-class horticulture and startling architecture symbolic of human endeavour.  Tim is also Executive Co-Chair for Eden Project International which aims to have an Eden Project on every habited continent by 2025. \nThis event is free and open to the public \nTo register please click here. \nFor more details please email John Barry: j.barry@qub.ac.uk \n
URL:https://qpol.dev.palebluedot.tv/event/have-you-got-what-it-takes-to-start-a-revolution-or-are-you-a-sheep-qub-sustainability-lecture-with-sir-tim-smit/
LOCATION:Peter Froggatt Centre Room OG/007\, Queen's University\, Belfast\, Antrim\, BT7 1NN\, United Kingdom
CATEGORIES:Event
ATTACH;FMTTYPE=image/jpeg:https://qpol.dev.palebluedot.tv/wp-content/uploads/2019/10/Tim-Smit.jpg
END:VEVENT
END:VCALENDAR