BEGIN:VCALENDAR
VERSION:2.0
PRODID:-//Queen&#039;s Policy Engagement - ECPv4.7.0.1//NONSGML v1.0//EN
CALSCALE:GREGORIAN
METHOD:PUBLISH
X-WR-CALNAME:Queen&#039;s Policy Engagement
X-ORIGINAL-URL:https://qpol.dev.palebluedot.tv
X-WR-CALDESC:Events for Queen&#039;s Policy Engagement
BEGIN:VEVENT
DTSTART;TZID=Europe/London:20181107T100000
DTEND;TZID=Europe/London:20181107T150000
DTSTAMP:20260421T193209
CREATED:20181023T210115Z
LAST-MODIFIED:20181023T210115Z
UID:5055-1541584800-1541602800@qpol.dev.palebluedot.tv
SUMMARY:History counts: Using numbers to understand the past
DESCRIPTION:Ever wondered how data can shine a light on the past? Data is a very important part of studying history. For example\, the UK census has been collected every 10 years since 1801\, and reading it can tell us a huge amount about what life was like a hundred years ago. It can tell us how many people lived in different places\, what jobs they did\, how long they lived for and how cramped their houses were. \nThis workshop aims to introduce A-level history students to economics-based approaches to studying history\, and show them how quantitative historical data can be used to shine a light on historical debates. \nThe event will consist of a one-day workshop divided into three sessions. The first session will introduce students to the field of economic history\, and explain how it can improve our understanding of the past. The second session will talk about the power of numbers\, and how data can be used to investigate historical phenomena and long-term trends. After lunch\, the third session will focus on the economic history research conducted at Queen’s University Centre for Economic History (QUCEH). Academics will talk to students about their own research\, and encourage them to comment and ask questions. \nThis event is for young people\, schools and colleges and is invitation only.  \n
URL:https://qpol.dev.palebluedot.tv/event/history-counts-using-numbers-understand-past/
LOCATION:Riddel Hall\, 185 Stranmillis Road \, Belfast\, Co Antrim \, BT9 5EE\, United Kingdom
CATEGORIES:Event
ATTACH;FMTTYPE=image/jpeg:https://qpol.dev.palebluedot.tv/wp-content/uploads/2018/09/ESRCNI_Square.jpg
END:VEVENT
END:VCALENDAR