BEGIN:VCALENDAR
VERSION:2.0
PRODID:-//Queen&#039;s Policy Engagement - ECPv4.7.0.1//NONSGML v1.0//EN
CALSCALE:GREGORIAN
METHOD:PUBLISH
X-WR-CALNAME:Queen&#039;s Policy Engagement
X-ORIGINAL-URL:https://qpol.dev.palebluedot.tv
X-WR-CALDESC:Events for Queen&#039;s Policy Engagement
BEGIN:VEVENT
DTSTART;TZID=Europe/London:20190508T193000
DTEND;TZID=Europe/London:20190508T213000
DTSTAMP:20260421T180032
CREATED:20190418T140657Z
LAST-MODIFIED:20190418T140657Z
UID:5522-1557343800-1557351000@qpol.dev.palebluedot.tv
SUMMARY:History in the Making: The Ulster Museum and the ‘Troubles and Beyond’ with BBC’s Marie-Louise Muir
DESCRIPTION:The Centre for Public History\, Queen’s University Belfast\, invites you to join us for \nHISTORY IN THE MAKING: A MASTERCLASS IN DIALOGUE \nOn Good Friday 2018\, the Ulster Museum opened its doors\, and its collections\, to a new commemorative exhibition ‘The Troubles and Beyond’. Displayed across hundreds of objects and images\, the gallery documents social\, political\, and cultural changes in Northern Ireland from the civil rights era to today’s post-conflict society. \n But what influenced the curators’ interpretations of the Troubles? And what historical and curatorial challenges did they encounter as they brought the realities of that past from collection to final exhibition? \n Join BBC NI’s Marie-Louise Muir as she asks these and other revealing questions in an exclusive interview with the creators of the Ulster Museum’s ‘The Troubles and Beyond’ exhibition\, William Blair and Karen Logan. \n Refreshments served on arrival. \nThe Centre for Public History at Queen’s. Putting history to work @qubpublichist \n
URL:https://qpol.dev.palebluedot.tv/event/history-in-the-making-the-ulster-museum-and-the-troubles-and-beyond-with-bbcs-marie-louise-muir/
LOCATION:Crescent Arts Centre\, 2-4 University Road\, Belfast\, Antrim\, BT7 1NH\, United Kingdom
CATEGORIES:Event
ATTACH;FMTTYPE=image/png:https://qpol.dev.palebluedot.tv/wp-content/uploads/2019/04/Anthony-Brennan-chess-set.png
END:VEVENT
END:VCALENDAR