BEGIN:VCALENDAR
VERSION:2.0
PRODID:-//Queen&#039;s Policy Engagement - ECPv4.7.0.1//NONSGML v1.0//EN
CALSCALE:GREGORIAN
METHOD:PUBLISH
X-WR-CALNAME:Queen&#039;s Policy Engagement
X-ORIGINAL-URL:https://qpol.dev.palebluedot.tv
X-WR-CALDESC:Events for Queen&#039;s Policy Engagement
BEGIN:VEVENT
DTSTART;TZID=Europe/London:20201109T110000
DTEND;TZID=Europe/London:20201109T120000
DTSTAMP:20260421T113458
CREATED:20201030T154329Z
LAST-MODIFIED:20201030T154329Z
UID:7234-1604919600-1604923200@qpol.dev.palebluedot.tv
SUMMARY:Homelessness: examining the effectiveness of existing approaches
DESCRIPTION:Professor Sarah Miller\, Dr Ciara Keenan and Dr Jennifer Hanratty at Queen’s discuss their reviews of different approaches to dealing with homelessness\, including the effectiveness of accommodation-based interventions\, discharge programmes\, and accessibility of health and social care. \nThe findings will be presented and there will be a chance to get involved in the discussion. \nThis event will be recorded. Joining instructions for Zoom will be sent 24 hours in advance. \n
URL:https://qpol.dev.palebluedot.tv/event/homelessness-examining-the-effectiveness-of-existing-approaches/
CATEGORIES:Event
ATTACH;FMTTYPE=image/jpeg:https://qpol.dev.palebluedot.tv/wp-content/uploads/2020/10/ESRC-logo.jpg
END:VEVENT
END:VCALENDAR