BEGIN:VCALENDAR
VERSION:2.0
PRODID:-//Queen&#039;s Policy Engagement - ECPv4.7.0.1//NONSGML v1.0//EN
CALSCALE:GREGORIAN
METHOD:PUBLISH
X-WR-CALNAME:Queen&#039;s Policy Engagement
X-ORIGINAL-URL:https://qpol.dev.palebluedot.tv
X-WR-CALDESC:Events for Queen&#039;s Policy Engagement
BEGIN:VEVENT
DTSTART;TZID=Europe/London:20180312T150000
DTEND;TZID=Europe/London:20180312T160000
DTSTAMP:20260422T015459
CREATED:20180302T102232Z
LAST-MODIFIED:20180302T102232Z
UID:4106-1520866800-1520870400@qpol.dev.palebluedot.tv
SUMMARY:Homeward Bound - Imagine Belfast Festival Evet
DESCRIPTION:Homeward Bound is a 30 minute play which tells the true story of Lesley and her husband Seth Goodburn. \nAt 49 years old\, Seth was diagnosed with pancreatic cancer following a short history of feeling unwell. He died just 33 days after diagnosis. This is a play\, written by playwright Brian Daniels\, to give people\, especially health and social care professionals\, the opportunity to reflect on the importance of compassionate person and family-centred care at the end of life and to help individuals to understand how little things mean a lot to the person who is dying and to their family. \nThe play draws its content from a series of letters written by Lesley before and after Seth’s untimely death. She articulates the journey from the first signs of his illness\, through diagnosis\, care and treatment and after his death at their local NHS Hospital. The play will be followed by a discussion with the actors and Lesley Goodburn. Organised by the NI Ethics Forum. \nNB. Please note that the time on this event has changed from the previously published programme. \n
URL:https://qpol.dev.palebluedot.tv/event/homeward-bound-imagine-belfast-festival-evet/
CATEGORIES:Event
ATTACH;FMTTYPE=image/jpeg:https://qpol.dev.palebluedot.tv/wp-content/uploads/2018/03/Homeward-Bound.jpg
END:VEVENT
END:VCALENDAR