BEGIN:VCALENDAR
VERSION:2.0
PRODID:-//Queen&#039;s Policy Engagement - ECPv4.7.0.1//NONSGML v1.0//EN
CALSCALE:GREGORIAN
METHOD:PUBLISH
X-WR-CALNAME:Queen&#039;s Policy Engagement
X-ORIGINAL-URL:https://qpol.dev.palebluedot.tv
X-WR-CALDESC:Events for Queen&#039;s Policy Engagement
BEGIN:VEVENT
DTSTART;TZID=Europe/London:20160314T173000
DTEND;TZID=Europe/London:20160314T193000
DTSTAMP:20260421T195844
CREATED:20160222T161011Z
LAST-MODIFIED:20160229T160752Z
UID:968-1457976600-1457983800@qpol.dev.palebluedot.tv
SUMMARY:Imaginative Randomocracy
DESCRIPTION:A political system in which ordinary (randomly selected) citizens make crucial political decisions using their imagination. \nThis event will consist of a short film showing how a system of ‘imaginative randomocracy’ could be implemented in Northern Ireland. This will be followed by a talk from Professor John Garry outlining what imaginative randomocracy is and what its possible advantages are. Audience members will then be asked to participate in an imagination-based democratic task. This fun exercise will be followed by questions and discussion. The event concludes with a wine reception and informal discussions. \nThis event is organised by the School of Politics\, International Studies and Philosophy at Queen’s University\, in association with QPol\, as part of Imagine: Festival of Ideas and Politics 2016. \nTo book your place\, click here. \n
URL:https://qpol.dev.palebluedot.tv/event/imaginative-randomocracy-a-political-system-in-which-ordinary-randomly-selected-citizens-make-crucial-political-decisions-using-their-imagination/
LOCATION:Old Staff Common Room\, Queen's University Belfast\, University Road\, Belfast\, BT7 1NN\, United Kingdom
ATTACH;FMTTYPE=image/jpeg:https://qpol.dev.palebluedot.tv/wp-content/uploads/2016/02/2016-Imagine-Festival-Banner-1100.jpg
ORGANIZER;CN="QPol":MAILTO:qpol@qub.ac.uk
END:VEVENT
END:VCALENDAR