BEGIN:VCALENDAR
VERSION:2.0
PRODID:-//Queen&#039;s Policy Engagement - ECPv4.7.0.1//NONSGML v1.0//EN
CALSCALE:GREGORIAN
METHOD:PUBLISH
X-WR-CALNAME:Queen&#039;s Policy Engagement
X-ORIGINAL-URL:https://qpol.dev.palebluedot.tv
X-WR-CALDESC:Events for Queen&#039;s Policy Engagement
BEGIN:VEVENT
DTSTART;TZID=Europe/London:20190327T130000
DTEND;TZID=Europe/London:20190327T170000
DTSTAMP:20260421T175832
CREATED:20190305T104637Z
LAST-MODIFIED:20190305T104637Z
UID:5430-1553691600-1553706000@qpol.dev.palebluedot.tv
SUMMARY:Imagine: The UK's Future Relationship with the EU
DESCRIPTION:As the date for the UK’s withdrawal from the European Union draws ever closer\, EU leaders have agreed the political declaration that sets out the broad aspirations for the kind of relationship the UK and the EU envisage having after Brexit. But what will this so-called ambitious\, broad\, deep and flexible partnership actually look like? And how will it and more immediately UK withdrawal from the EU impact on the many areas of collaboration that have been built up over 45 years of UK membership of the EU? \nJoin us at Queen’s University Belfast on Wednesday 27 March from 1pm as academics from across the University share their thoughts on the ever-shifting dynamics of Brexit and its impact on key areas. Whether your interest is in human rights or public health\, borders or business\, this is a great opportunity to hear from\, and engage with senior researchers and academics from Queen’s as they discuss what has been called the greatest constitutional challenge the UK has faced in generations and explore “what next?” with Brexit. \nThis special event will take place from 1pm-5pm on Wednesday 27 March in the Canada Room and Council Chamber at Queen’s University Belfast and is part of the Imagine Belfast Festival of Ideas and Politics 2019. \nFurther information on the Festival can be found at imaginebelfast.com \n
URL:https://qpol.dev.palebluedot.tv/event/imagine-the-uks-future-relationship-with-the-eu/
LOCATION:Canada Room and Council Chamber\, Queen's University Belfast\,  University Road\, Belfast\, BT7 1NN\, United Kingdom
CATEGORIES:Event
ATTACH;FMTTYPE=image/jpeg:https://qpol.dev.palebluedot.tv/wp-content/uploads/2018/10/Lanyon.jpg
ORGANIZER;CN="Queen%27s%20Policy%20Engagement":MAILTO:qpol@qub.ac.uk
END:VEVENT
END:VCALENDAR