BEGIN:VCALENDAR
VERSION:2.0
PRODID:-//Queen&#039;s Policy Engagement - ECPv4.7.0.1//NONSGML v1.0//EN
CALSCALE:GREGORIAN
METHOD:PUBLISH
X-WR-CALNAME:Queen&#039;s Policy Engagement
X-ORIGINAL-URL:https://qpol.dev.palebluedot.tv
X-WR-CALDESC:Events for Queen&#039;s Policy Engagement
BEGIN:VEVENT
DTSTART;TZID=Europe/London:20210519T123000
DTEND;TZID=Europe/London:20210519T131500
DTSTAMP:20260421T075937
CREATED:20210513T110025Z
LAST-MODIFIED:20210513T110025Z
UID:7734-1621427400-1621430100@qpol.dev.palebluedot.tv
SUMMARY:In Conversation with Jonathan Powell
DESCRIPTION:\n\n\n\n\n\n\n\n\nJonathan Powell is CEO of Inter Mediate\, the charity which he founded in 2011 to work on conflict resolution around the world. His work has involved negotiations with ETA in the Basque Country\, and negotiations in Colombia with the FARC. Between 1995 and 2007 Jonathan Powell was Chief of Staff to Tony Blair\, and during 1997-2007 he was Chief British Negotiator on Northern Ireland. He is an Honorary Professor at the Senator George J. Mitchell Institute for Global Peace\, Security and Justice at QUB. His books include Great Hatred\, Little Room: Making Peace in Northern Ireland and Talking to Terrorists\, How to End Armed Conflict. \nProfessor Richard English is Pro-Vice-Chancellor for Internationalisation and Engagement and is also Professor of Politics\, and Distinguished Professorial Fellow in the Senator George J. Mitchell Institute for Global Peace\, Security and Justice. Between 2011 and 2016 he was Wardlaw Professor of Politics in the School of International Relations\, and Director of the Handa Centre for the Study of Terrorism and Political Violence (CSTPV)\, at the University of St Andrews. He is the author of eight books and co-editor/editor of a further six. He is a Fellow of the British Academy (FBA)\, a Member of the Royal Irish Academy (MRIA)\, a Fellow of the Royal Society of Edinburgh (FRSE)\, a Fellow of the Royal Historical Society (FRHistS)\, an Honorary Fellow of Keble College Oxford\, and an Honorary Professor at the University of St Andrews. \n\n\n\n\n
URL:https://qpol.dev.palebluedot.tv/event/in-conversation-with-jonathan-powell/
LOCATION:Online
CATEGORIES:Event
ATTACH;FMTTYPE=image/jpeg:https://qpol.dev.palebluedot.tv/wp-content/uploads/2021/05/J-Powell.jpg
END:VEVENT
END:VCALENDAR