BEGIN:VCALENDAR
VERSION:2.0
PRODID:-//Queen&#039;s Policy Engagement - ECPv4.7.0.1//NONSGML v1.0//EN
CALSCALE:GREGORIAN
METHOD:PUBLISH
X-WR-CALNAME:Queen&#039;s Policy Engagement
X-ORIGINAL-URL:https://qpol.dev.palebluedot.tv
X-WR-CALDESC:Events for Queen&#039;s Policy Engagement
BEGIN:VEVENT
DTSTART;TZID=Europe/London:20161026T130000
DTEND;TZID=Europe/London:20161026T174500
DTSTAMP:20260421T181309
CREATED:20161019T160715Z
LAST-MODIFIED:20161019T160715Z
UID:1870-1477486800-1477503900@qpol.dev.palebluedot.tv
SUMMARY:Intersectionality in Law\, Policy and Society
DESCRIPTION:\nThis is a half-day international interdisciplinary postgraduate research workshop on intersectionality\, where Professor Sandra Fredman\, FBA\, QC (University of Oxford\, United Kingdom)\, will be giving the key note speech entitled “Intersectional Discrimination in the European Union.” \nThe full programme can be accessed here. \nAttendance is free\, but registration is required (click here to register). \nFor guidance on reaching the workshop venue or for contacts where you can reach the conference organisers\, please consult the welcome pack. \n\n\n\n\n
URL:https://qpol.dev.palebluedot.tv/event/intersectionality-in-law-policy-and-society/
LOCATION:Canada Room and Council Chamber\, Queen's University Belfast\,  University Road\, Belfast\, BT7 1NN\, United Kingdom
CATEGORIES:Event
ATTACH;FMTTYPE=image/jpeg:https://qpol.dev.palebluedot.tv/wp-content/uploads/2016/05/Queens.jpg
END:VEVENT
END:VCALENDAR