BEGIN:VCALENDAR
VERSION:2.0
PRODID:-//Queen&#039;s Policy Engagement - ECPv4.7.0.1//NONSGML v1.0//EN
CALSCALE:GREGORIAN
METHOD:PUBLISH
X-WR-CALNAME:Queen&#039;s Policy Engagement
X-ORIGINAL-URL:https://qpol.dev.palebluedot.tv
X-WR-CALDESC:Events for Queen&#039;s Policy Engagement
BEGIN:VEVENT
DTSTART;TZID=Europe/London:20161107T160000
DTEND;TZID=Europe/London:20161107T190000
DTSTAMP:20260421T211208
CREATED:20161003T112715Z
LAST-MODIFIED:20161003T120503Z
UID:1784-1478534400-1478545200@qpol.dev.palebluedot.tv
SUMMARY:Waiting for a transplant on dialysis: living while dying with kidney disease
DESCRIPTION:The event will include a presentation centred on facing mortality with chronic disease\, by Dr Jimmy McAleavey\, currently a Lecturer in Creative Writing at the Seamus Heaney Centre/School of English\, Queens University Belfast. Jimmy is an acclaimed scriptwriter and has written for feature films\, written and directed short films\, scripted TV drama and produced and directed factual TV. \nWe also plan a film viewing of a piece created by our newly established Renal Arts Group in collaboration with patients\, academics and healthcare staff. The film portrays the devastating diagnosis of renal disease\, with no cure\, and the demanding treatments to be endured as health deteriorates whilst waiting for the elusive kidney transplant\, not always available and in short supply.\nA debate around improving knowledge of kidney disease and how we might improve the kidney donor rate will be held. This will be co-facilitated by a kidney surgeon and a patient. \nFor further information or to register for this event\, please contact Dr Helen Noble at Queen’s University Belfast. \n
URL:https://qpol.dev.palebluedot.tv/event/living-while-dying-kidney-disease/
LOCATION:The Black Box (Main Room)\, 18-22 Hill Street\, Belfast\, Co Antrim\, BT1 2LA\, United Kingdom
CATEGORIES:Event
ATTACH;FMTTYPE=image/png:https://qpol.dev.palebluedot.tv/wp-content/uploads/2016/10/ESRC-Festival-Large.png
END:VEVENT
END:VCALENDAR