BEGIN:VCALENDAR
VERSION:2.0
PRODID:-//Queen&#039;s Policy Engagement - ECPv4.7.0.1//NONSGML v1.0//EN
CALSCALE:GREGORIAN
METHOD:PUBLISH
X-WR-CALNAME:Queen&#039;s Policy Engagement
X-ORIGINAL-URL:https://qpol.dev.palebluedot.tv
X-WR-CALDESC:Events for Queen&#039;s Policy Engagement
BEGIN:VEVENT
DTSTART;TZID=Europe/London:20200324T182000
DTEND;TZID=Europe/London:20200324T201000
DTSTAMP:20260421T144701
CREATED:20200309T125834Z
LAST-MODIFIED:20200324T162156Z
UID:6384-1585074000-1585080600@qpol.dev.palebluedot.tv
SUMMARY:Midnight Traveller - screening at QFT - CANCELLED
DESCRIPTION:We are currently in the midst of Europe’s largest refugee crisis since World War II — one million refugees in 2015 alone. Filmmakers Hassan Fazili\, his wife Fatima Hossaini\, and their two daughters\, Nargis and Zahra\, became four of those one million. \nWhen the Taliban put a bounty on Fazili’s head\, the family were forced to flee their home country and seek asylum; Midnight Traveller is an incredibly moving\, unusual and highly personal take on a refugee story — the entire feature-length film shot on three mobile phones. We travel with the family through every stage of the journey; bonding with them\, watching them overcome huge obstacles\, numbing tedium and petty disagreements alike — sharing their pain and their triumphs\, seeing months stretch into years with no resolution. \nLike recent awards hit For Sama\, Midnight Traveller shows us the plight of the displaced from the inside\, with heart-breaking immediacy. Powerful\, personal and impossible to ignore. \nDir: Hassan Fazili | 2019 | Qatar/UK/Canada/USA | 1 hr 28 mins | Subtitled | Cert 15  \n
URL:https://qpol.dev.palebluedot.tv/event/midnight-traveller-screening-at-qft/
LOCATION:Queen’s Film Theatre\, 20 University Road\, Belfast\, Northern Ireland\, BT7 1NN\, United Kingdom
ATTACH;FMTTYPE=image/jpeg:https://qpol.dev.palebluedot.tv/wp-content/uploads/2020/03/Imagine-2020.jpg
END:VEVENT
END:VCALENDAR