BEGIN:VCALENDAR
VERSION:2.0
PRODID:-//Queen&#039;s Policy Engagement - ECPv4.7.0.1//NONSGML v1.0//EN
CALSCALE:GREGORIAN
METHOD:PUBLISH
X-WR-CALNAME:Queen&#039;s Policy Engagement
X-ORIGINAL-URL:https://qpol.dev.palebluedot.tv
X-WR-CALDESC:Events for Queen&#039;s Policy Engagement
BEGIN:VEVENT
DTSTART;TZID=Europe/London:20201111T100000
DTEND;TZID=Europe/London:20201111T110000
DTSTAMP:20260421T094429
CREATED:20201030T160130Z
LAST-MODIFIED:20201030T160130Z
UID:7243-1605088800-1605092400@qpol.dev.palebluedot.tv
SUMMARY:Museum accessibility and challenges in the new normal
DESCRIPTION:\n\n\nAs we begin to return to cultural venues\, how do we ensure equal access for all? Queen’s researcher Xi Wang hosts this event which focuses on museum accessibility for blind and partially sighted (BPS) visitors.\n\n\n\n\n\n\n\nThe Royal National Institute of Blind People and researchers at Queen’s will discuss challenges faced by venues and ways in which social inclusion can be enhanced during these difficult times. There will also be an opportunity for attendees to engage via an online poll and Q&A session. \nThis event will be recorded. Joining instructions will be sent 24 hours in advance. \n\n\n\n\n
URL:https://qpol.dev.palebluedot.tv/event/museum-accessibility-and-challenges-in-the-new-normal/
CATEGORIES:Event
ATTACH;FMTTYPE=image/jpeg:https://qpol.dev.palebluedot.tv/wp-content/uploads/2020/10/ESRC-logo.jpg
END:VEVENT
END:VCALENDAR