BEGIN:VCALENDAR
VERSION:2.0
PRODID:-//Queen&#039;s Policy Engagement - ECPv4.7.0.1//NONSGML v1.0//EN
CALSCALE:GREGORIAN
METHOD:PUBLISH
X-WR-CALNAME:Queen&#039;s Policy Engagement
X-ORIGINAL-URL:https://qpol.dev.palebluedot.tv
X-WR-CALDESC:Events for Queen&#039;s Policy Engagement
BEGIN:VEVENT
DTSTART;TZID=Europe/London:20201020T123000
DTEND;TZID=Europe/London:20201020T134500
DTSTAMP:20260421T113508
CREATED:20201002T065657Z
LAST-MODIFIED:20201002T065657Z
UID:7165-1603197000-1603201500@qpol.dev.palebluedot.tv
SUMMARY:Negotiating Brexit: October 2020 Brexit Clinic at Queen's
DESCRIPTION:Although the transition period ends on 31 December 2020\, all aspects of the UK’s future relationship with the EU-27 would need to be agreed soon to allow the ratification process to begin before the end of November. \nSo what happens next and what is the likelihood of an agreement being reached? \nFollowing the October meeting of the European Council\, due to take place on 15-16 October\, Queen’s Policy Engagement is delighted to hold its latest virtual Brexit Clinic on 20 October at 12.30pm where our resident Brexit panel will share their thoughts on the negotiation process and the implications for Northern Ireland and the UK. \nSo why not join in the discussion with our resident panel. \nYou can register by clicking here.   \n  \n
URL:https://qpol.dev.palebluedot.tv/event/negotiating-brexit-october-2020-brexit-clinic-at-queens/
LOCATION:Online
CATEGORIES:Event
ATTACH;FMTTYPE=image/jpeg:https://qpol.dev.palebluedot.tv/wp-content/uploads/2020/04/Lanyon-2.jpg
END:VEVENT
END:VCALENDAR