BEGIN:VCALENDAR
VERSION:2.0
PRODID:-//Queen&#039;s Policy Engagement - ECPv4.7.0.1//NONSGML v1.0//EN
CALSCALE:GREGORIAN
METHOD:PUBLISH
X-WR-CALNAME:Queen&#039;s Policy Engagement
X-ORIGINAL-URL:https://qpol.dev.palebluedot.tv
X-WR-CALDESC:Events for Queen&#039;s Policy Engagement
BEGIN:VEVENT
DTSTART;TZID=Europe/London:20181106T123000
DTEND;TZID=Europe/London:20181106T123000
DTSTAMP:20260421T202645
CREATED:20181011T134903Z
LAST-MODIFIED:20181023T202759Z
UID:4989-1541507400-1541507400@qpol.dev.palebluedot.tv
SUMMARY:November Brexit Clinic - Borders\, Backstops and Brexit
DESCRIPTION:Not bored yet with Brexit? Then come along and join in the discussion around the issues facing the UK and the particular challenges that Brexit poses for Northern Ireland. \nWith academics from the Queen’s on Brexit initiative and part of the 2018 ESRC Festival of Social Science. \nTo register\, please click here.  \n
URL:https://qpol.dev.palebluedot.tv/event/november-brexit-clinic/
LOCATION:LAN 01/052\, Lanyon Building\, QUB\, Belfast\, Antrim\, BT7 1NF\, United Kingdom
CATEGORIES:Event
ATTACH;FMTTYPE=image/jpeg:https://qpol.dev.palebluedot.tv/wp-content/uploads/2018/10/Lanyon.jpg
END:VEVENT
END:VCALENDAR