BEGIN:VCALENDAR
VERSION:2.0
PRODID:-//Queen&#039;s Policy Engagement - ECPv4.7.0.1//NONSGML v1.0//EN
CALSCALE:GREGORIAN
METHOD:PUBLISH
X-WR-CALNAME:Queen&#039;s Policy Engagement
X-ORIGINAL-URL:https://qpol.dev.palebluedot.tv
X-WR-CALDESC:Events for Queen&#039;s Policy Engagement
BEGIN:VEVENT
DTSTART;TZID=Europe/London:20181017T123000
DTEND;TZID=Europe/London:20181017T140000
DTSTAMP:20260421T153447
CREATED:20181011T132853Z
LAST-MODIFIED:20181011T132853Z
UID:4978-1539779400-1539784800@qpol.dev.palebluedot.tv
SUMMARY:October Brexit Clinic
DESCRIPTION:Queen’s Policy Engagement (QPol ) invites you to the latest in its series of ‘Brexit Clinics’ bringing together academic experts and stakeholders to discuss the issues facing the UK\, to consider the particular challenges the process poses for Northern Ireland and to provide informed insights into the process. \nWhatever your particular interest is in Brexit and the EU\, come along to the October Brexit Clinic on Wednesday 17 October at 12.30pm. The Clinic will consist of introductory comments on the process by senior Queen’s academics Professor David Phinnemore\, Dr Viviane Gravey and Dr Mary Hobbs and will be followed by a Q+A session and discussion addressing issues raised by participants. \nPlaces are limited so please register early. Coffee and sandwiches from 12 noon. \n
URL:https://qpol.dev.palebluedot.tv/event/october-brexit-clinic/
CATEGORIES:Event
ATTACH;FMTTYPE=image/jpeg:https://qpol.dev.palebluedot.tv/wp-content/uploads/2018/10/Lanyon.jpg
ORGANIZER;CN="QPol":MAILTO:qpol@qub.ac.uk
END:VEVENT
END:VCALENDAR