BEGIN:VCALENDAR
VERSION:2.0
PRODID:-//Queen&#039;s Policy Engagement - ECPv4.7.0.1//NONSGML v1.0//EN
CALSCALE:GREGORIAN
METHOD:PUBLISH
X-WR-CALNAME:Queen&#039;s Policy Engagement
X-ORIGINAL-URL:https://qpol.dev.palebluedot.tv
X-WR-CALDESC:Events for Queen&#039;s Policy Engagement
BEGIN:VEVENT
DTSTART;TZID=Europe/London:20190904T100000
DTEND;TZID=Europe/London:20190904T153000
DTSTAMP:20260421T175908
CREATED:20190819T133024Z
LAST-MODIFIED:20190819T133024Z
UID:5825-1567591200-1567611000@qpol.dev.palebluedot.tv
SUMMARY:Patten 20 Years On: Young People\, Policing and Stop and Search
DESCRIPTION:This is a joint event between the Crime and Social Justice Group at Queen’s\, Include Youth and the Children’s Law Centre. \nTaking place on Wednesday 4 September\, 10.00am – 3.30pm in the Great Hall\, this one-day conference will explore the current agenda and evidence around the policing of children and young people in Northern Ireland\, with a particular focus on police stop and search powers. \nFor full details and to register\, please follow this link. \nSpeakers include: \n\nProf. Ann Skelton\, member of the United Nations Committee on the Rights of the Child;\nKatrina French\, Chief Executive of StopWatch UK\nProf. Ben Bradford\, Director of the Jill Dando Institute for Global City Policing\nKoulla Yiasouma\, Commissioner for Children and Young People in Northern Ireland\n\n\nMore speakers to be announced. The conference will be chaired by Alyson Kilpatrick\, BL. \n\n
URL:https://qpol.dev.palebluedot.tv/event/patten-20-years-on-young-people-policing-and-stop-and-search/
LOCATION:The Great Hall\, University Road\, Belfast\, Antrim\, BT7 1NN\, United Kingdom
CATEGORIES:Event
ATTACH;FMTTYPE=image/jpeg:https://qpol.dev.palebluedot.tv/wp-content/uploads/2019/08/4-sept-event.jpg
END:VEVENT
END:VCALENDAR