BEGIN:VCALENDAR
VERSION:2.0
PRODID:-//Queen&#039;s Policy Engagement - ECPv4.7.0.1//NONSGML v1.0//EN
CALSCALE:GREGORIAN
METHOD:PUBLISH
X-WR-CALNAME:Queen&#039;s Policy Engagement
X-ORIGINAL-URL:https://qpol.dev.palebluedot.tv
X-WR-CALDESC:Events for Queen&#039;s Policy Engagement
BEGIN:VEVENT
DTSTART;TZID=Europe/London:20210421T123000
DTEND;TZID=Europe/London:20210421T134500
DTSTAMP:20260421T080118
CREATED:20210401T135625Z
LAST-MODIFIED:20210401T135625Z
UID:7628-1619008200-1619012700@qpol.dev.palebluedot.tv
SUMMARY:Post-Brexit Clinic April 2021
DESCRIPTION:Following on from our long-running series of Brexit Clinics at Queen’s\, this new series of public engagement events will look at latest developments in the UK’s post-Brexit relationship with the EU and at the implementation of the Protocol on Ireland/Northern Ireland. \nMany of the immediate consequences of Brexit\, such as new formalities and disruptions and delays to supplies\, have received a lot of press since January. But looking beyond those headlines\, is the Protocol working or indeed workable in practice\, and what is on the horizon for post-Brexit Northern Ireland as the UK’s new relationship with the EU takes shape? \nWith Professor David Phinnemore\, Dr Viviane Gravey\, Professor Katy Hayward\, Dr Billy Melo Araujo and Lisa Whitten.  \n
URL:https://qpol.dev.palebluedot.tv/event/post-brexit-clinic-april-2021/
LOCATION:Online
CATEGORIES:Event
ATTACH;FMTTYPE=image/jpeg:https://qpol.dev.palebluedot.tv/wp-content/uploads/2020/04/Lanyon-2.jpg
ORGANIZER;CN="Queen%27s%20Policy%20Engagement":MAILTO:qpol@qub.ac.uk
END:VEVENT
END:VCALENDAR