BEGIN:VCALENDAR
VERSION:2.0
PRODID:-//Queen&#039;s Policy Engagement - ECPv4.7.0.1//NONSGML v1.0//EN
CALSCALE:GREGORIAN
METHOD:PUBLISH
X-WR-CALNAME:Queen&#039;s Policy Engagement
X-ORIGINAL-URL:https://qpol.dev.palebluedot.tv
X-WR-CALDESC:Events for Queen&#039;s Policy Engagement
BEGIN:VEVENT
DTSTART;TZID=Europe/London:20211214T123000
DTEND;TZID=Europe/London:20211214T134500
DTSTAMP:20260421T075106
CREATED:20211124T172933Z
LAST-MODIFIED:20211124T172933Z
UID:8161-1639485000-1639489500@qpol.dev.palebluedot.tv
SUMMARY:Post-Brexit Clinic December 2021
DESCRIPTION:Following on from our long-running series of Brexit Clinics at Queen’s\, this new series of public engagement events looks at the latest developments in the UK’s post-Brexit relationship with the EU and at the implementation of the Protocol on Ireland/Northern Ireland. \nJoin Professor David Phinnemore\, Professor Katy Hayward\, Dr Viviane Gravey\, Dr Billy Melo Araujo and Lisa Whitten for more insight and analysis. \n
URL:https://qpol.dev.palebluedot.tv/event/post-brexit-clinic-december-2021/
LOCATION:Online
CATEGORIES:Event
ATTACH;FMTTYPE=image/jpeg:https://qpol.dev.palebluedot.tv/wp-content/uploads/2020/04/Lanyon-2.jpg
ORGANIZER;CN="Queen%27s%20Policy%20Engagement":MAILTO:qpol@qub.ac.uk
END:VEVENT
END:VCALENDAR